BEGIN:VCALENDAR
VERSION:2.0
PRODID:-//Le scrap de Marianne - ECPv6.15.17.1//NONSGML v1.0//EN
CALSCALE:GREGORIAN
METHOD:PUBLISH
X-WR-CALNAME:Le scrap de Marianne
X-ORIGINAL-URL:https://www.marianne38.com
X-WR-CALDESC:Évènements pour Le scrap de Marianne
REFRESH-INTERVAL;VALUE=DURATION:PT1H
X-Robots-Tag:noindex
X-PUBLISHED-TTL:PT1H
BEGIN:VTIMEZONE
TZID:Europe/Paris
BEGIN:DAYLIGHT
TZOFFSETFROM:+0100
TZOFFSETTO:+0200
TZNAME:CEST
DTSTART:20240331T010000
END:DAYLIGHT
BEGIN:STANDARD
TZOFFSETFROM:+0200
TZOFFSETTO:+0100
TZNAME:CET
DTSTART:20241027T010000
END:STANDARD
BEGIN:DAYLIGHT
TZOFFSETFROM:+0100
TZOFFSETTO:+0200
TZNAME:CEST
DTSTART:20250330T010000
END:DAYLIGHT
BEGIN:STANDARD
TZOFFSETFROM:+0200
TZOFFSETTO:+0100
TZNAME:CET
DTSTART:20251026T010000
END:STANDARD
BEGIN:DAYLIGHT
TZOFFSETFROM:+0100
TZOFFSETTO:+0200
TZNAME:CEST
DTSTART:20260329T010000
END:DAYLIGHT
BEGIN:STANDARD
TZOFFSETFROM:+0200
TZOFFSETTO:+0100
TZNAME:CET
DTSTART:20261025T010000
END:STANDARD
END:VTIMEZONE
BEGIN:VEVENT
DTSTART;TZID=Europe/Paris:20251115T100000
DTEND;TZID=Europe/Paris:20251116T170000
DTSTAMP:20260420T035313
CREATED:20250718T140058Z
LAST-MODIFIED:20250926T074057Z
UID:96048856-1763200800-1763312400@www.marianne38.com
SUMMARY:Salon SCRAP'BULLES à Oeuilly (51)
DESCRIPTION:Un salon 100% scrapbooking ! \nJe serai présente avec ma boutique et proposerai des ateliers cartes Lavinia : \n\nLe samedi : la carte “maison et petites sorcières”\n\n \nHoraires : 10h15\, 12h15\, 14h15 et 16h15. \n\nLe dimanche : la carte “lampadaire”\n\n \n  \n  \nHoraires : 10h15\, 12h15\, et 14h15. \n  \nLa durée des ateliers est d’environ 1h – 1h15. \nLe tarif : 3 € (gratuit pour tout achat de minimum 15 € dans la boutique). \nLes ateliers sont réservés aux adultes et jeunes à partir de 14 ans. \n  \nPour vous inscrire\, merci de m’envoyer un MAIL : marianne.goczol@marianne38.com \n 
URL:https://www.marianne38.com/atelier/salon-scrapbulles-a-oeuilly-51/
LOCATION:Salle polyvalente Oeuilly\, OEUILLY\, 51480\, France
CATEGORIES:Salon
ATTACH;FMTTYPE=image/jpeg:https://www.marianne38.com/wp-content/uploads/2025/07/affiche-salon-oeuilly-2025.jpg
ORGANIZER;CN="Mairie d'Oeuilly":MAILTO:mairie.oeuilly@wanadoo.fr
END:VEVENT
END:VCALENDAR