BEGIN:VCALENDAR
VERSION:2.0
PRODID:-//Le scrap de Marianne - ECPv6.15.17.1//NONSGML v1.0//EN
CALSCALE:GREGORIAN
METHOD:PUBLISH
X-WR-CALNAME:Le scrap de Marianne
X-ORIGINAL-URL:https://www.marianne38.com
X-WR-CALDESC:Évènements pour Le scrap de Marianne
REFRESH-INTERVAL;VALUE=DURATION:PT1H
X-Robots-Tag:noindex
X-PUBLISHED-TTL:PT1H
BEGIN:VTIMEZONE
TZID:Europe/Paris
BEGIN:DAYLIGHT
TZOFFSETFROM:+0100
TZOFFSETTO:+0200
TZNAME:CEST
DTSTART:20240331T010000
END:DAYLIGHT
BEGIN:STANDARD
TZOFFSETFROM:+0200
TZOFFSETTO:+0100
TZNAME:CET
DTSTART:20241027T010000
END:STANDARD
BEGIN:DAYLIGHT
TZOFFSETFROM:+0100
TZOFFSETTO:+0200
TZNAME:CEST
DTSTART:20250330T010000
END:DAYLIGHT
BEGIN:STANDARD
TZOFFSETFROM:+0200
TZOFFSETTO:+0100
TZNAME:CET
DTSTART:20251026T010000
END:STANDARD
BEGIN:DAYLIGHT
TZOFFSETFROM:+0100
TZOFFSETTO:+0200
TZNAME:CEST
DTSTART:20260329T010000
END:DAYLIGHT
BEGIN:STANDARD
TZOFFSETFROM:+0200
TZOFFSETTO:+0100
TZNAME:CET
DTSTART:20261025T010000
END:STANDARD
END:VTIMEZONE
BEGIN:VEVENT
DTSTART;TZID=Europe/Paris:20251108T100000
DTEND;TZID=Europe/Paris:20251109T170000
DTSTAMP:20260420T035141
CREATED:20250612T101638Z
LAST-MODIFIED:20251016T064450Z
UID:96048293-1762596000-1762707600@www.marianne38.com
SUMMARY:SALON SCRAPBOOKING à Ollioules (83)
DESCRIPTION:J’aurai le plaisir de vous accueillir sur mon stand durant ce salon du scrapbooking\, et je proposerai également des ateliers 🙂 \nLe samedi après-midi : un atelier mini album\, avec la collection Farandole de Florilèges Design. \n   \n  \n  \n  \nLe dimanche matin : un atelier carte féérique (carte de format A5 : 15 x 21 cm). \n \n  \n  \n  \n  \n  \n  \n  \n  \nPour vous inscrire aux ateliers\, merci de contacter l’association : \npar mail : associationeclat9@gmail.com \nou par téléphone : 06 73 50 62 33
URL:https://www.marianne38.com/atelier/salon-scrapbooking-a-ollioules-83/
LOCATION:Espace Puget\, Place Trotobas\, Ollioules\, 83190
CATEGORIES:Salon
ATTACH;FMTTYPE=image/jpeg:https://www.marianne38.com/wp-content/uploads/2025/06/Affiche-Salon-2025-2-jpg.jpg
ORGANIZER;CN="Association Scrap & Co 83":MAILTO:associationeclat9@gmail.com
END:VEVENT
END:VCALENDAR