BEGIN:VCALENDAR
VERSION:2.0
PRODID:-//Le scrap de Marianne - ECPv6.15.17.1//NONSGML v1.0//EN
CALSCALE:GREGORIAN
METHOD:PUBLISH
X-ORIGINAL-URL:https://www.marianne38.com
X-WR-CALDESC:Évènements pour Le scrap de Marianne
REFRESH-INTERVAL;VALUE=DURATION:PT1H
X-Robots-Tag:noindex
X-PUBLISHED-TTL:PT1H
BEGIN:VTIMEZONE
TZID:Europe/Paris
BEGIN:DAYLIGHT
TZOFFSETFROM:+0100
TZOFFSETTO:+0200
TZNAME:CEST
DTSTART:20240331T010000
END:DAYLIGHT
BEGIN:STANDARD
TZOFFSETFROM:+0200
TZOFFSETTO:+0100
TZNAME:CET
DTSTART:20241027T010000
END:STANDARD
BEGIN:DAYLIGHT
TZOFFSETFROM:+0100
TZOFFSETTO:+0200
TZNAME:CEST
DTSTART:20250330T010000
END:DAYLIGHT
BEGIN:STANDARD
TZOFFSETFROM:+0200
TZOFFSETTO:+0100
TZNAME:CET
DTSTART:20251026T010000
END:STANDARD
BEGIN:DAYLIGHT
TZOFFSETFROM:+0100
TZOFFSETTO:+0200
TZNAME:CEST
DTSTART:20260329T010000
END:DAYLIGHT
BEGIN:STANDARD
TZOFFSETFROM:+0200
TZOFFSETTO:+0100
TZNAME:CET
DTSTART:20261025T010000
END:STANDARD
END:VTIMEZONE
BEGIN:VEVENT
DTSTART;VALUE=DATE:20250920
DTEND;VALUE=DATE:20250922
DTSTAMP:20260420T095831
CREATED:20250718T102759Z
LAST-MODIFIED:20250911T134542Z
UID:96048843-1758326400-1758499199@www.marianne38.com
SUMMARY:Salon ESCRAPADE EN ARDEN'
DESCRIPTION:Ne manquez pas ce super salon 100% scrapbooking ! \nIl se déroule dans un cadre idyllique et dans une ambiance très conviviale. \nDe nombreux exposants proposent des ateliers. \n  \nJe proposerai\, sur mon stand\, des ateliers Cartes Lavinia avec diverses techniques. \nLes ateliers sont au prix de 3 €\, remboursés pour tout achat de minimum 15 € dans ma boutique. \n(Ateliers réservés aux adultes et jeunes à partir de 15 ans) \n  \nVoici la carte proposée le samedi (techniques : Dinkles \, tampons et mise en couleur feutres ZIG): Ateliers COMPLETS \n  \n \n  \nEt le dimanche (mêmes techniques) : il reste quelques places à 10h15\, 12h15 et 14h15 \n  \n \nPour vous inscrire\, merci de me contacter par mail : marianne.goczol@marianne38.com
URL:https://www.marianne38.com/atelier/salon-escrapade-en-arden/
LOCATION:Lac de Bairon\, Salle Polyvalente\, Bairon et ses Environs\, 08390\, France
CATEGORIES:Salon
ATTACH;FMTTYPE=image/jpeg:https://www.marianne38.com/wp-content/uploads/2025/07/Affiche-salon-2025-A4.jpg
ORGANIZER;CN="Association Scraptapage":MAILTO:scraptapage08@yahoo.com
END:VEVENT
END:VCALENDAR