BEGIN:VCALENDAR
VERSION:2.0
PRODID:-//Le scrap de Marianne - ECPv6.15.17.1//NONSGML v1.0//EN
CALSCALE:GREGORIAN
METHOD:PUBLISH
X-ORIGINAL-URL:https://www.marianne38.com
X-WR-CALDESC:Évènements pour Le scrap de Marianne
REFRESH-INTERVAL;VALUE=DURATION:PT1H
X-Robots-Tag:noindex
X-PUBLISHED-TTL:PT1H
BEGIN:VTIMEZONE
TZID:Europe/Paris
BEGIN:DAYLIGHT
TZOFFSETFROM:+0100
TZOFFSETTO:+0200
TZNAME:CEST
DTSTART:20250330T010000
END:DAYLIGHT
BEGIN:STANDARD
TZOFFSETFROM:+0200
TZOFFSETTO:+0100
TZNAME:CET
DTSTART:20251026T010000
END:STANDARD
BEGIN:DAYLIGHT
TZOFFSETFROM:+0100
TZOFFSETTO:+0200
TZNAME:CEST
DTSTART:20260329T010000
END:DAYLIGHT
BEGIN:STANDARD
TZOFFSETFROM:+0200
TZOFFSETTO:+0100
TZNAME:CET
DTSTART:20261025T010000
END:STANDARD
BEGIN:DAYLIGHT
TZOFFSETFROM:+0100
TZOFFSETTO:+0200
TZNAME:CEST
DTSTART:20270328T010000
END:DAYLIGHT
BEGIN:STANDARD
TZOFFSETFROM:+0200
TZOFFSETTO:+0100
TZNAME:CET
DTSTART:20271031T010000
END:STANDARD
END:VTIMEZONE
BEGIN:VEVENT
DTSTART;TZID=Europe/Paris:20260422T183000
DTEND;TZID=Europe/Paris:20260422T210000
DTSTAMP:20260419T190812
CREATED:20251223T165659Z
LAST-MODIFIED:20251223T165659Z
UID:96052494-1776882600-1776891600@www.marianne38.com
SUMMARY:Atelier Double Page Avril
DESCRIPTION:Pour tout renseignement concernant cet atelier\, merci de me contacter par mail : marianne.goczol@marianne38.com \nVISUEL À VENIR
URL:https://www.marianne38.com/atelier/atelier-double-page-avril-2/
LOCATION:Chez Marianne\, 1\, chemin des Acquits\, Saint Georges d'Espéranche\, 38790\, France
CATEGORIES:Atelier Page
ORGANIZER;CN="Marianne":MAILTO:marianne.goczol@marianne38.com
END:VEVENT
BEGIN:VEVENT
DTSTART;TZID=Europe/Paris:20260424T170000
DTEND;TZID=Europe/Paris:20260424T220000
DTSTAMP:20260419T190812
CREATED:20251016T071816Z
LAST-MODIFIED:20251016T071816Z
UID:96051690-1777050000-1777068000@www.marianne38.com
SUMMARY:Atelier Double Page Asso Les Ateliers Ré-Créatifs
DESCRIPTION:Cet atelier est réservé aux adhérents de l’association Les Ateliers Ré-Créatifs\, à La Tour du Pin (38). \nPour tout renseignement\, merci de me contacter\, je vous mettrai en relation avec la Présidente de l’association. \nVisuel de la page : À VENIR
URL:https://www.marianne38.com/atelier/atelier-double-page-asso-les-ateliers-re-creatifs-5/
LOCATION:Asso Les Ateliers Ré-Créatifs\, 1 rue Aristide Briand\, La Tour du Pin\, 38110\, France
CATEGORIES:Atelier Page
END:VEVENT
BEGIN:VEVENT
DTSTART;TZID=Europe/Paris:20260425T093000
DTEND;TZID=Europe/Paris:20260425T120000
DTSTAMP:20260419T190812
CREATED:20251016T074633Z
LAST-MODIFIED:20251016T074633Z
UID:96051721-1777109400-1777118400@www.marianne38.com
SUMMARY:Atelier Double Page Avril
DESCRIPTION:Pour tout renseignement concernant cet atelier\, merci de ma contacter par mail : marianne.goczol@marianne38.com. \n  \nVISUEL À VENIR
URL:https://www.marianne38.com/atelier/atelier-double-page-avril/
LOCATION:Chez Marianne\, 1\, chemin des Acquits\, Saint Georges d'Espéranche\, 38790\, France
CATEGORIES:Atelier Page
ORGANIZER;CN="Marianne":MAILTO:marianne.goczol@marianne38.com
END:VEVENT
BEGIN:VEVENT
DTSTART;TZID=Europe/Paris:20260430T093000
DTEND;TZID=Europe/Paris:20260430T120000
DTSTAMP:20260419T190812
CREATED:20251223T170945Z
LAST-MODIFIED:20251223T170945Z
UID:96052511-1777541400-1777550400@www.marianne38.com
SUMMARY:Atelier Page Avril
DESCRIPTION:Pour tout renseignement concernant cet atelier\, merci de me contacter par mail : marianne.goczol@marianne38.com \nVISUEL À VENIR
URL:https://www.marianne38.com/atelier/atelier-page-avril/
LOCATION:Chez Marianne\, 1\, chemin des Acquits\, Saint Georges d'Espéranche\, 38790\, France
CATEGORIES:Atelier Page
ORGANIZER;CN="Marianne":MAILTO:marianne.goczol@marianne38.com
END:VEVENT
END:VCALENDAR