BEGIN:VCALENDAR
VERSION:2.0
PRODID:-//Le scrap de Marianne - ECPv6.15.17.1//NONSGML v1.0//EN
CALSCALE:GREGORIAN
METHOD:PUBLISH
X-WR-CALNAME:Le scrap de Marianne
X-ORIGINAL-URL:https://www.marianne38.com
X-WR-CALDESC:Évènements pour Le scrap de Marianne
REFRESH-INTERVAL;VALUE=DURATION:PT1H
X-Robots-Tag:noindex
X-PUBLISHED-TTL:PT1H
BEGIN:VTIMEZONE
TZID:Europe/Paris
BEGIN:DAYLIGHT
TZOFFSETFROM:+0100
TZOFFSETTO:+0200
TZNAME:CEST
DTSTART:20250330T010000
END:DAYLIGHT
BEGIN:STANDARD
TZOFFSETFROM:+0200
TZOFFSETTO:+0100
TZNAME:CET
DTSTART:20251026T010000
END:STANDARD
BEGIN:DAYLIGHT
TZOFFSETFROM:+0100
TZOFFSETTO:+0200
TZNAME:CEST
DTSTART:20260329T010000
END:DAYLIGHT
BEGIN:STANDARD
TZOFFSETFROM:+0200
TZOFFSETTO:+0100
TZNAME:CET
DTSTART:20261025T010000
END:STANDARD
BEGIN:DAYLIGHT
TZOFFSETFROM:+0100
TZOFFSETTO:+0200
TZNAME:CEST
DTSTART:20270328T010000
END:DAYLIGHT
BEGIN:STANDARD
TZOFFSETFROM:+0200
TZOFFSETTO:+0100
TZNAME:CET
DTSTART:20271031T010000
END:STANDARD
END:VTIMEZONE
BEGIN:VEVENT
DTSTART;TZID=Europe/Paris:20260612T170000
DTEND;TZID=Europe/Paris:20260612T220000
DTSTAMP:20260420T005145
CREATED:20251016T072151Z
LAST-MODIFIED:20251016T072151Z
UID:96051696-1781283600-1781301600@www.marianne38.com
SUMMARY:Atelier Double Page Asso Les Ateliers Ré-Créatifs
DESCRIPTION:Cet atelier est réservé aux adhérents de l’association Les Ateliers Ré-Créatifs\, à La Tour du Pin (38). \nPour tout renseignement\, merci de me contacter\, je vous mettrai en relation avec la Présidente de l’association. \nVisuel de la page : À VENIR
URL:https://www.marianne38.com/atelier/atelier-double-page-asso-les-ateliers-re-creatifs-7/
LOCATION:Asso Les Ateliers Ré-Créatifs\, 1 rue Aristide Briand\, La Tour du Pin\, 38110\, France
CATEGORIES:Atelier Page
END:VEVENT
END:VCALENDAR