BEGIN:VCALENDAR
VERSION:2.0
PRODID:-//Le scrap de Marianne - ECPv6.15.17.1//NONSGML v1.0//EN
CALSCALE:GREGORIAN
METHOD:PUBLISH
X-WR-CALNAME:Le scrap de Marianne
X-ORIGINAL-URL:https://www.marianne38.com
X-WR-CALDESC:Évènements pour Le scrap de Marianne
REFRESH-INTERVAL;VALUE=DURATION:PT1H
X-Robots-Tag:noindex
X-PUBLISHED-TTL:PT1H
BEGIN:VTIMEZONE
TZID:Europe/Paris
BEGIN:DAYLIGHT
TZOFFSETFROM:+0100
TZOFFSETTO:+0200
TZNAME:CEST
DTSTART:20250330T010000
END:DAYLIGHT
BEGIN:STANDARD
TZOFFSETFROM:+0200
TZOFFSETTO:+0100
TZNAME:CET
DTSTART:20251026T010000
END:STANDARD
BEGIN:DAYLIGHT
TZOFFSETFROM:+0100
TZOFFSETTO:+0200
TZNAME:CEST
DTSTART:20260329T010000
END:DAYLIGHT
BEGIN:STANDARD
TZOFFSETFROM:+0200
TZOFFSETTO:+0100
TZNAME:CET
DTSTART:20261025T010000
END:STANDARD
BEGIN:DAYLIGHT
TZOFFSETFROM:+0100
TZOFFSETTO:+0200
TZNAME:CEST
DTSTART:20270328T010000
END:DAYLIGHT
BEGIN:STANDARD
TZOFFSETFROM:+0200
TZOFFSETTO:+0100
TZNAME:CET
DTSTART:20271031T010000
END:STANDARD
END:VTIMEZONE
BEGIN:VEVENT
DTSTART;TZID=Europe/Paris:20260411T093000
DTEND;TZID=Europe/Paris:20260411T120000
DTSTAMP:20260419T210526
CREATED:20260316T131911Z
LAST-MODIFIED:20260316T131911Z
UID:96053179-1775899800-1775908800@www.marianne38.com
SUMMARY:Atelier Double page en toute convivialité !
DESCRIPTION:Venez découvrir le scrapbooking dans une ambiance conviviale ! \nQue vous soyez débutant ou que vous ayez simplement envie de réaliser une double page de scrapbooking en bonne compagnie\, je vous propose de venir scrapper dans mon atelier\, à Saint Georges d’Espéranche (38)\, à 40 minutes de Lyon. \nTout le matériel vous sera fourni pour réaliser cette double page (kit + outils). \nIl vous faudra juste prévoir vos photos. \n  \nPour vous inscrire\, c’est par ICI \n  \nVoici le visuel de la page : \n \n 
URL:https://www.marianne38.com/atelier/atelier-double-page-en-toute-convivialite/
LOCATION:Chez Marianne\, 1\, chemin des Acquits\, Saint Georges d'Espéranche\, 38790\, France
CATEGORIES:Atelier Page
ATTACH;FMTTYPE=image/jpeg:https://www.marianne38.com/wp-content/uploads/2026/03/20260227_114451-scaled.jpg
ORGANIZER;CN="Marianne":MAILTO:marianne.goczol@marianne38.com
END:VEVENT
END:VCALENDAR