BEGIN:VCALENDAR
VERSION:2.0
PRODID:-//Le scrap de Marianne - ECPv6.15.17.1//NONSGML v1.0//EN
CALSCALE:GREGORIAN
METHOD:PUBLISH
X-ORIGINAL-URL:https://www.marianne38.com
X-WR-CALDESC:Évènements pour Le scrap de Marianne
REFRESH-INTERVAL;VALUE=DURATION:PT1H
X-Robots-Tag:noindex
X-PUBLISHED-TTL:PT1H
BEGIN:VTIMEZONE
TZID:Europe/Paris
BEGIN:DAYLIGHT
TZOFFSETFROM:+0100
TZOFFSETTO:+0200
TZNAME:CEST
DTSTART:20250330T010000
END:DAYLIGHT
BEGIN:STANDARD
TZOFFSETFROM:+0200
TZOFFSETTO:+0100
TZNAME:CET
DTSTART:20251026T010000
END:STANDARD
BEGIN:DAYLIGHT
TZOFFSETFROM:+0100
TZOFFSETTO:+0200
TZNAME:CEST
DTSTART:20260329T010000
END:DAYLIGHT
BEGIN:STANDARD
TZOFFSETFROM:+0200
TZOFFSETTO:+0100
TZNAME:CET
DTSTART:20261025T010000
END:STANDARD
BEGIN:DAYLIGHT
TZOFFSETFROM:+0100
TZOFFSETTO:+0200
TZNAME:CEST
DTSTART:20270328T010000
END:DAYLIGHT
BEGIN:STANDARD
TZOFFSETFROM:+0200
TZOFFSETTO:+0100
TZNAME:CET
DTSTART:20271031T010000
END:STANDARD
END:VTIMEZONE
BEGIN:VEVENT
DTSTART;TZID=Europe/Paris:20260221T093000
DTEND;TZID=Europe/Paris:20260221T120000
DTSTAMP:20260420T004210
CREATED:20251016T074343Z
LAST-MODIFIED:20260227T111958Z
UID:96051715-1771666200-1771675200@www.marianne38.com
SUMMARY:Atelier Double Page Février
DESCRIPTION:Pour tout renseignement concernant cet atelier\, merci de ma contacter par mail : marianne.goczol@marianne38.com. \n \n 
URL:https://www.marianne38.com/atelier/atelier-double-page-fevrier/
LOCATION:Chez Marianne\, 1\, chemin des Acquits\, Saint Georges d'Espéranche\, 38790\, France
CATEGORIES:Atelier Page
ATTACH;FMTTYPE=image/jpeg:https://www.marianne38.com/wp-content/uploads/2025/10/20260220_133340-scaled.jpg
ORGANIZER;CN="Marianne":MAILTO:marianne.goczol@marianne38.com
END:VEVENT
END:VCALENDAR