BEGIN:VCALENDAR
VERSION:2.0
PRODID:-//Le scrap de Marianne - ECPv6.15.17.1//NONSGML v1.0//EN
CALSCALE:GREGORIAN
METHOD:PUBLISH
X-WR-CALNAME:Le scrap de Marianne
X-ORIGINAL-URL:https://www.marianne38.com
X-WR-CALDESC:Évènements pour Le scrap de Marianne
REFRESH-INTERVAL;VALUE=DURATION:PT1H
X-Robots-Tag:noindex
X-PUBLISHED-TTL:PT1H
BEGIN:VTIMEZONE
TZID:Europe/Paris
BEGIN:DAYLIGHT
TZOFFSETFROM:+0100
TZOFFSETTO:+0200
TZNAME:CEST
DTSTART:20250330T010000
END:DAYLIGHT
BEGIN:STANDARD
TZOFFSETFROM:+0200
TZOFFSETTO:+0100
TZNAME:CET
DTSTART:20251026T010000
END:STANDARD
BEGIN:DAYLIGHT
TZOFFSETFROM:+0100
TZOFFSETTO:+0200
TZNAME:CEST
DTSTART:20260329T010000
END:DAYLIGHT
BEGIN:STANDARD
TZOFFSETFROM:+0200
TZOFFSETTO:+0100
TZNAME:CET
DTSTART:20261025T010000
END:STANDARD
BEGIN:DAYLIGHT
TZOFFSETFROM:+0100
TZOFFSETTO:+0200
TZNAME:CEST
DTSTART:20270328T010000
END:DAYLIGHT
BEGIN:STANDARD
TZOFFSETFROM:+0200
TZOFFSETTO:+0100
TZNAME:CET
DTSTART:20271031T010000
END:STANDARD
END:VTIMEZONE
BEGIN:VEVENT
DTSTART;TZID=Europe/Paris:20260306T170000
DTEND;TZID=Europe/Paris:20260306T220000
DTSTAMP:20260419T210124
CREATED:20251016T071442Z
LAST-MODIFIED:20260227T111551Z
UID:96051684-1772816400-1772834400@www.marianne38.com
SUMMARY:Atelier Double Page Asso Les Ateliers Ré-Créatifs
DESCRIPTION:Cet atelier est réservé aux adhérents de l’association Les Ateliers Ré-Créatifs\, à La Tour du Pin (38). \nPour tout renseignement\, merci de me contacter\, je vous mettrai en relation avec la Présidente de l’association. \nVisuel de la page :
URL:https://www.marianne38.com/atelier/atelier-double-page-asso-les-ateliers-re-creatifs-3/
LOCATION:Asso Les Ateliers Ré-Créatifs\, 1 rue Aristide Briand\, La Tour du Pin\, 38110\, France
CATEGORIES:Atelier Page
ATTACH;FMTTYPE=image/jpeg:https://www.marianne38.com/wp-content/uploads/2025/10/20260220_133340-scaled.jpg
END:VEVENT
BEGIN:VEVENT
DTSTART;TZID=Europe/Paris:20260317T093000
DTEND;TZID=Europe/Paris:20260317T120000
DTSTAMP:20260419T210124
CREATED:20251223T170824Z
LAST-MODIFIED:20251223T170824Z
UID:96052508-1773739800-1773748800@www.marianne38.com
SUMMARY:Atelier Page Mars
DESCRIPTION:Pour tout renseignement concernant cet atelier\, merci de me contacter par mail : marianne.goczol@marianne38.com \nVISUEL À VENIR
URL:https://www.marianne38.com/atelier/atelier-page-mars/
LOCATION:Chez Marianne\, 1\, chemin des Acquits\, Saint Georges d'Espéranche\, 38790\, France
CATEGORIES:Atelier Page
ORGANIZER;CN="Marianne":MAILTO:marianne.goczol@marianne38.com
END:VEVENT
BEGIN:VEVENT
DTSTART;TZID=Europe/Paris:20260320T170000
DTEND;TZID=Europe/Paris:20260320T220000
DTSTAMP:20260419T210124
CREATED:20251016T071643Z
LAST-MODIFIED:20251016T071643Z
UID:96051687-1774026000-1774044000@www.marianne38.com
SUMMARY:Atelier Double Page Asso Les Ateliers Ré-Créatifs
DESCRIPTION:Cet atelier est réservé aux adhérents de l’association Les Ateliers Ré-Créatifs\, à La Tour du Pin (38). \nPour tout renseignement\, merci de me contacter\, je vous mettrai en relation avec la Présidente de l’association. \nVisuel de la page : À VENIR
URL:https://www.marianne38.com/atelier/atelier-double-page-asso-les-ateliers-re-creatifs-4/
LOCATION:Asso Les Ateliers Ré-Créatifs\, 1 rue Aristide Briand\, La Tour du Pin\, 38110\, France
CATEGORIES:Atelier Page
END:VEVENT
BEGIN:VEVENT
DTSTART;TZID=Europe/Paris:20260321T093000
DTEND;TZID=Europe/Paris:20260321T120000
DTSTAMP:20260419T210124
CREATED:20251016T074453Z
LAST-MODIFIED:20251016T074453Z
UID:96051718-1774085400-1774094400@www.marianne38.com
SUMMARY:Atelier Double Page Mars
DESCRIPTION:Pour tout renseignement concernant cet atelier\, merci de ma contacter par mail : marianne.goczol@marianne38.com. \n  \nVISUEL À VENIR
URL:https://www.marianne38.com/atelier/atelier-double-page-mars/
LOCATION:Chez Marianne\, 1\, chemin des Acquits\, Saint Georges d'Espéranche\, 38790\, France
CATEGORIES:Atelier Page
ORGANIZER;CN="Marianne":MAILTO:marianne.goczol@marianne38.com
END:VEVENT
BEGIN:VEVENT
DTSTART;TZID=Europe/Paris:20260325T183000
DTEND;TZID=Europe/Paris:20260325T210000
DTSTAMP:20260419T210124
CREATED:20251223T165516Z
LAST-MODIFIED:20251223T165516Z
UID:96052492-1774463400-1774472400@www.marianne38.com
SUMMARY:Atelier Double Page Mars
DESCRIPTION:Pour tout renseignement concernant cet atelier\, merci de me contacter par mail : marianne.goczol@marianne38.com \nVISUEL À VENIR
URL:https://www.marianne38.com/atelier/atelier-double-page-mars-2/
LOCATION:Chez Marianne\, 1\, chemin des Acquits\, Saint Georges d'Espéranche\, 38790\, France
CATEGORIES:Atelier Page
ORGANIZER;CN="Marianne":MAILTO:marianne.goczol@marianne38.com
END:VEVENT
END:VCALENDAR