BEGIN:VCALENDAR
VERSION:2.0
PRODID:-//Le scrap de Marianne - ECPv6.15.17.1//NONSGML v1.0//EN
CALSCALE:GREGORIAN
METHOD:PUBLISH
X-ORIGINAL-URL:https://www.marianne38.com
X-WR-CALDESC:Évènements pour Le scrap de Marianne
REFRESH-INTERVAL;VALUE=DURATION:PT1H
X-Robots-Tag:noindex
X-PUBLISHED-TTL:PT1H
BEGIN:VTIMEZONE
TZID:Europe/Paris
BEGIN:DAYLIGHT
TZOFFSETFROM:+0100
TZOFFSETTO:+0200
TZNAME:CEST
DTSTART:20250330T010000
END:DAYLIGHT
BEGIN:STANDARD
TZOFFSETFROM:+0200
TZOFFSETTO:+0100
TZNAME:CET
DTSTART:20251026T010000
END:STANDARD
BEGIN:DAYLIGHT
TZOFFSETFROM:+0100
TZOFFSETTO:+0200
TZNAME:CEST
DTSTART:20260329T010000
END:DAYLIGHT
BEGIN:STANDARD
TZOFFSETFROM:+0200
TZOFFSETTO:+0100
TZNAME:CET
DTSTART:20261025T010000
END:STANDARD
BEGIN:DAYLIGHT
TZOFFSETFROM:+0100
TZOFFSETTO:+0200
TZNAME:CEST
DTSTART:20270328T010000
END:DAYLIGHT
BEGIN:STANDARD
TZOFFSETFROM:+0200
TZOFFSETTO:+0100
TZNAME:CET
DTSTART:20271031T010000
END:STANDARD
END:VTIMEZONE
BEGIN:VEVENT
DTSTART;TZID=Europe/Paris:20260110T093000
DTEND;TZID=Europe/Paris:20260110T120000
DTSTAMP:20260420T003033
CREATED:20251016T074231Z
LAST-MODIFIED:20251223T164611Z
UID:96051712-1768037400-1768046400@www.marianne38.com
SUMMARY:Atelier Double Page Janvier
DESCRIPTION:Pour tout renseignement concernant cet atelier\, merci de ma contacter par mail : marianne.goczol@marianne38.com. \n  \nVISUEL À VENIR
URL:https://www.marianne38.com/atelier/atelier-double-page-janvier/
LOCATION:Chez Marianne\, 1\, chemin des Acquits\, Saint Georges d'Espéranche\, 38790\, France
CATEGORIES:Atelier Page
ORGANIZER;CN="Marianne":MAILTO:marianne.goczol@marianne38.com
END:VEVENT
BEGIN:VEVENT
DTSTART;TZID=Europe/Paris:20260114T183000
DTEND;TZID=Europe/Paris:20260114T210000
DTSTAMP:20260420T003033
CREATED:20251223T164922Z
LAST-MODIFIED:20260112T153152Z
UID:96052488-1768415400-1768424400@www.marianne38.com
SUMMARY:Atelier Double Page Janvier
DESCRIPTION:Pour tout renseignement concernant cet atelier\, merci de me contacter par mail : marianne.goczol@marianne38.com
URL:https://www.marianne38.com/atelier/atelier-double-page-janvier-2/
LOCATION:Chez Marianne\, 1\, chemin des Acquits\, Saint Georges d'Espéranche\, 38790\, France
CATEGORIES:Atelier Page
ATTACH;FMTTYPE=image/jpeg:https://www.marianne38.com/wp-content/uploads/2025/10/20260112_113437-scaled.jpg
ORGANIZER;CN="Marianne":MAILTO:marianne.goczol@marianne38.com
END:VEVENT
BEGIN:VEVENT
DTSTART;TZID=Europe/Paris:20260119T093000
DTEND;TZID=Europe/Paris:20260119T120000
DTSTAMP:20260420T003033
CREATED:20251223T170412Z
LAST-MODIFIED:20260112T153103Z
UID:96052502-1768815000-1768824000@www.marianne38.com
SUMMARY:Atelier Double Page Janvier
DESCRIPTION:Pour tout renseignement concernant cet atelier\, merci de me contacter par mail : marianne.goczol@marianne38.com
URL:https://www.marianne38.com/atelier/atelier-double-page-janvier-3/
LOCATION:Chez Marianne\, 1\, chemin des Acquits\, Saint Georges d'Espéranche\, 38790\, France
CATEGORIES:Atelier Page
ATTACH;FMTTYPE=image/jpeg:https://www.marianne38.com/wp-content/uploads/2025/10/20260112_113437-scaled.jpg
ORGANIZER;CN="Marianne":MAILTO:marianne.goczol@marianne38.com
END:VEVENT
BEGIN:VEVENT
DTSTART;TZID=Europe/Paris:20260123T170000
DTEND;TZID=Europe/Paris:20260123T220000
DTSTAMP:20260420T003033
CREATED:20251016T071202Z
LAST-MODIFIED:20260112T153003Z
UID:96051682-1769187600-1769205600@www.marianne38.com
SUMMARY:Atelier Double Page Asso Les Ateliers Ré-Créatifs
DESCRIPTION:Cet atelier est réservé aux adhérents de l’association Les Ateliers Ré-Créatifs\, à La Tour du Pin (38). \nPour tout renseignement\, merci de me contacter\, je vous mettrai en relation avec la Présidente de l’association. \nVisuel de la page :
URL:https://www.marianne38.com/atelier/atelier-double-page-asso-les-ateliers-re-creatifs-2/
LOCATION:Asso Les Ateliers Ré-Créatifs\, 1 rue Aristide Briand\, La Tour du Pin\, 38110\, France
CATEGORIES:Atelier Page
ATTACH;FMTTYPE=image/jpeg:https://www.marianne38.com/wp-content/uploads/2025/10/20260112_113437-scaled.jpg
END:VEVENT
END:VCALENDAR