BEGIN:VCALENDAR
VERSION:2.0
PRODID:-//Le scrap de Marianne - ECPv6.15.17.1//NONSGML v1.0//EN
CALSCALE:GREGORIAN
METHOD:PUBLISH
X-WR-CALNAME:Le scrap de Marianne
X-ORIGINAL-URL:https://www.marianne38.com
X-WR-CALDESC:Évènements pour Le scrap de Marianne
REFRESH-INTERVAL;VALUE=DURATION:PT1H
X-Robots-Tag:noindex
X-PUBLISHED-TTL:PT1H
BEGIN:VTIMEZONE
TZID:Europe/Paris
BEGIN:DAYLIGHT
TZOFFSETFROM:+0100
TZOFFSETTO:+0200
TZNAME:CEST
DTSTART:20240331T010000
END:DAYLIGHT
BEGIN:STANDARD
TZOFFSETFROM:+0200
TZOFFSETTO:+0100
TZNAME:CET
DTSTART:20241027T010000
END:STANDARD
BEGIN:DAYLIGHT
TZOFFSETFROM:+0100
TZOFFSETTO:+0200
TZNAME:CEST
DTSTART:20250330T010000
END:DAYLIGHT
BEGIN:STANDARD
TZOFFSETFROM:+0200
TZOFFSETTO:+0100
TZNAME:CET
DTSTART:20251026T010000
END:STANDARD
BEGIN:DAYLIGHT
TZOFFSETFROM:+0100
TZOFFSETTO:+0200
TZNAME:CEST
DTSTART:20260329T010000
END:DAYLIGHT
BEGIN:STANDARD
TZOFFSETFROM:+0200
TZOFFSETTO:+0100
TZNAME:CET
DTSTART:20261025T010000
END:STANDARD
END:VTIMEZONE
BEGIN:VEVENT
DTSTART;TZID=Europe/Paris:20251112T183000
DTEND;TZID=Europe/Paris:20251112T210000
DTSTAMP:20260420T035101
CREATED:20251016T065233Z
LAST-MODIFIED:20251016T065233Z
UID:96051666-1762972200-1762981200@www.marianne38.com
SUMMARY:Atelier Double Page Novembre
DESCRIPTION:Pour tout renseignement concernant l’atelier\, contactez-moi par mail : marianne.goczol@marianne38.com \nVISUEL À VENIR
URL:https://www.marianne38.com/atelier/atelier-double-page-novembre-2/
LOCATION:Chez Marianne\, 1\, chemin des Acquits\, Saint Georges d'Espéranche\, 38790\, France
CATEGORIES:Atelier Page
ORGANIZER;CN="Marianne":MAILTO:marianne.goczol@marianne38.com
END:VEVENT
BEGIN:VEVENT
DTSTART;TZID=Europe/Paris:20251120T140000
DTEND;TZID=Europe/Paris:20251120T213000
DTSTAMP:20260420T035101
CREATED:20251016T073249Z
LAST-MODIFIED:20251016T073249Z
UID:96051699-1763647200-1763674200@www.marianne38.com
SUMMARY:Atelier Double Page Asso OZIDÉ
DESCRIPTION:Cet atelier est réservé aux adhérents de l’association Atelier OZIDÉ\, à Ruy-Montceau (38). \nPour tout renseignement concernant l’association\, merci de me contacter\, je vous mettrai en relation avec la Présidente. \nVisuel de la page :
URL:https://www.marianne38.com/atelier/atelier-double-page-asso-ozide/
LOCATION:Salle de Lavitel\, Ruy-Montceau\, 38300\, France
CATEGORIES:Atelier Page
ATTACH;FMTTYPE=image/jpeg:https://www.marianne38.com/wp-content/uploads/2025/10/20251015_122944.jpg
END:VEVENT
BEGIN:VEVENT
DTSTART;TZID=Europe/Paris:20251122T093000
DTEND;TZID=Europe/Paris:20251122T120000
DTSTAMP:20260420T035101
CREATED:20251016T065618Z
LAST-MODIFIED:20251016T065659Z
UID:96051668-1763803800-1763812800@www.marianne38.com
SUMMARY:Atelier Double Page Novembre
DESCRIPTION:Pour tout renseignement concernant l’atelier\, merci de me contacter par mail : marianne.goczol@marianne38.com \n  \nVISUEL À VENIR
URL:https://www.marianne38.com/atelier/atelier-double-page-novembre-3/
LOCATION:Chez Marianne\, 1\, chemin des Acquits\, Saint Georges d'Espéranche\, 38790\, France
CATEGORIES:Atelier Page
ORGANIZER;CN="Marianne":MAILTO:marianne.goczol@marianne38.com
END:VEVENT
BEGIN:VEVENT
DTSTART;TZID=Europe/Paris:20251125T093000
DTEND;TZID=Europe/Paris:20251125T120000
DTSTAMP:20260420T035101
CREATED:20250911T144305Z
LAST-MODIFIED:20250911T144305Z
UID:96051248-1764063000-1764072000@www.marianne38.com
SUMMARY:Atelier Double Page Novembre
DESCRIPTION:Pour tout renseignement\, contactez-moi par mail : marianne.goczol@marianne38.com \n  \nVISUEL À VENIR
URL:https://www.marianne38.com/atelier/atelier-double-page-novembre/
LOCATION:Chez Marianne\, 1\, chemin des Acquits\, Saint Georges d'Espéranche\, 38790\, France
CATEGORIES:Atelier Page
ORGANIZER;CN="Marianne":MAILTO:marianne.goczol@marianne38.com
END:VEVENT
BEGIN:VEVENT
DTSTART;TZID=Europe/Paris:20251128T170000
DTEND;TZID=Europe/Paris:20251128T220000
DTSTAMP:20260420T035101
CREATED:20251016T070656Z
LAST-MODIFIED:20251016T070656Z
UID:96051676-1764349200-1764367200@www.marianne38.com
SUMMARY:Atelier Double Page Asso Ateliers Ré-Créatifs
DESCRIPTION:Cet atelier est réservé aux adhérents de l’association Les Ateliers Ré-Créatifs\, à La Tour du Pin (38). \nPour tout renseignement\, merci de me contacter\, je vous mettrai en relation avec la Présidente de l’association. \nVisuel de la page : À VENIR
URL:https://www.marianne38.com/atelier/atelier-double-page-asso-ateliers-re-creatifs-2/
LOCATION:Asso Les Ateliers Ré-Créatifs\, 1 rue Aristide Briand\, La Tour du Pin\, 38110\, France
CATEGORIES:Atelier Page
END:VEVENT
END:VCALENDAR