BEGIN:VCALENDAR
VERSION:2.0
PRODID:-//Le scrap de Marianne - ECPv6.15.17.1//NONSGML v1.0//EN
CALSCALE:GREGORIAN
METHOD:PUBLISH
X-WR-CALNAME:Le scrap de Marianne
X-ORIGINAL-URL:https://www.marianne38.com
X-WR-CALDESC:Évènements pour Le scrap de Marianne
REFRESH-INTERVAL;VALUE=DURATION:PT1H
X-Robots-Tag:noindex
X-PUBLISHED-TTL:PT1H
BEGIN:VTIMEZONE
TZID:Europe/Paris
BEGIN:DAYLIGHT
TZOFFSETFROM:+0100
TZOFFSETTO:+0200
TZNAME:CEST
DTSTART:20240331T010000
END:DAYLIGHT
BEGIN:STANDARD
TZOFFSETFROM:+0200
TZOFFSETTO:+0100
TZNAME:CET
DTSTART:20241027T010000
END:STANDARD
BEGIN:DAYLIGHT
TZOFFSETFROM:+0100
TZOFFSETTO:+0200
TZNAME:CEST
DTSTART:20250330T010000
END:DAYLIGHT
BEGIN:STANDARD
TZOFFSETFROM:+0200
TZOFFSETTO:+0100
TZNAME:CET
DTSTART:20251026T010000
END:STANDARD
BEGIN:DAYLIGHT
TZOFFSETFROM:+0100
TZOFFSETTO:+0200
TZNAME:CEST
DTSTART:20260329T010000
END:DAYLIGHT
BEGIN:STANDARD
TZOFFSETFROM:+0200
TZOFFSETTO:+0100
TZNAME:CET
DTSTART:20261025T010000
END:STANDARD
END:VTIMEZONE
BEGIN:VEVENT
DTSTART;TZID=Europe/Paris:20251004T093000
DTEND;TZID=Europe/Paris:20251004T120000
DTSTAMP:20260420T055034
CREATED:20250911T143458Z
LAST-MODIFIED:20250911T143516Z
UID:96051243-1759570200-1759579200@www.marianne38.com
SUMMARY:Atelier Double Page Octobre
DESCRIPTION:Pour tout renseignement\, merci de me contacter par mail : marianne.goczol@marianne38.com \nPour les ateliers Pages\, un engagement sur l’année complète est souhaité. \n  \nVISUEL À VENIR
URL:https://www.marianne38.com/atelier/atelier-double-page-octobre/
LOCATION:Chez Marianne\, 1\, chemin des Acquits\, Saint Georges d'Espéranche\, 38790\, France
CATEGORIES:Atelier Page
ORGANIZER;CN="Marianne":MAILTO:marianne.goczol@marianne38.com
END:VEVENT
BEGIN:VEVENT
DTSTART;TZID=Europe/Paris:20251006T093000
DTEND;TZID=Europe/Paris:20251006T120000
DTSTAMP:20260420T055034
CREATED:20250911T143940Z
LAST-MODIFIED:20250911T143940Z
UID:96051246-1759743000-1759752000@www.marianne38.com
SUMMARY:Atelier Double Page Octobre
DESCRIPTION:Pour tout renseignement\, contactez-moi par mail : marianne.goczol@marianne38.com \n  \nVISUEL À VENIR
URL:https://www.marianne38.com/atelier/atelier-double-page-octobre-2/
LOCATION:Chez Marianne\, 1\, chemin des Acquits\, Saint Georges d'Espéranche\, 38790\, France
CATEGORIES:Atelier Page
ORGANIZER;CN="Marianne":MAILTO:marianne.goczol@marianne38.com
END:VEVENT
BEGIN:VEVENT
DTSTART;TZID=Europe/Paris:20251015T183000
DTEND;TZID=Europe/Paris:20251015T210000
DTSTAMP:20260420T055034
CREATED:20250926T074757Z
LAST-MODIFIED:20250926T074757Z
UID:96051555-1760553000-1760562000@www.marianne38.com
SUMMARY:Atelier Double Page Octobre
DESCRIPTION:Pour tout renseignement\, contactez-moi : marianne.goczol@marianne38.com. \n  \nVISUEL À VENIR
URL:https://www.marianne38.com/atelier/atelier-double-page-octobre-3/
LOCATION:Chez Marianne\, 1\, chemin des Acquits\, Saint Georges d'Espéranche\, 38790\, France
CATEGORIES:Atelier Page
ORGANIZER;CN="Marianne":MAILTO:marianne.goczol@marianne38.com
END:VEVENT
BEGIN:VEVENT
DTSTART;TZID=Europe/Paris:20251017T170000
DTEND;TZID=Europe/Paris:20251017T220000
DTSTAMP:20260420T055034
CREATED:20251016T070405Z
LAST-MODIFIED:20251016T070420Z
UID:96051670-1760720400-1760738400@www.marianne38.com
SUMMARY:Atelier Double Page Asso Ateliers Ré-Créatifs
DESCRIPTION:Cet atelier est réservé aux adhérents de l’association Les Ateliers Ré-Créatifs\, à La Tour du Pin (38). \nPour tout renseignement\, merci de me contacter\, je vous mettrai en relation avec la Présidente de l’association. \nVisuel de la page :
URL:https://www.marianne38.com/atelier/atelier-double-page-asso-ateliers-re-creatifs/
LOCATION:Asso Les Ateliers Ré-Créatifs\, 1 rue Aristide Briand\, La Tour du Pin\, 38110\, France
CATEGORIES:Atelier Page
ATTACH;FMTTYPE=image/jpeg:https://www.marianne38.com/wp-content/uploads/2025/10/20251002_141926.jpg
END:VEVENT
END:VCALENDAR