BEGIN:VCALENDAR
VERSION:2.0
PRODID:-//Le scrap de Marianne - ECPv6.15.17.1//NONSGML v1.0//EN
CALSCALE:GREGORIAN
METHOD:PUBLISH
X-ORIGINAL-URL:https://www.marianne38.com
X-WR-CALDESC:Évènements pour Le scrap de Marianne
REFRESH-INTERVAL;VALUE=DURATION:PT1H
X-Robots-Tag:noindex
X-PUBLISHED-TTL:PT1H
BEGIN:VTIMEZONE
TZID:Europe/Paris
BEGIN:DAYLIGHT
TZOFFSETFROM:+0100
TZOFFSETTO:+0200
TZNAME:CEST
DTSTART:20220327T010000
END:DAYLIGHT
BEGIN:STANDARD
TZOFFSETFROM:+0200
TZOFFSETTO:+0100
TZNAME:CET
DTSTART:20221030T010000
END:STANDARD
BEGIN:DAYLIGHT
TZOFFSETFROM:+0100
TZOFFSETTO:+0200
TZNAME:CEST
DTSTART:20230326T010000
END:DAYLIGHT
BEGIN:STANDARD
TZOFFSETFROM:+0200
TZOFFSETTO:+0100
TZNAME:CET
DTSTART:20231029T010000
END:STANDARD
BEGIN:DAYLIGHT
TZOFFSETFROM:+0100
TZOFFSETTO:+0200
TZNAME:CEST
DTSTART:20240331T010000
END:DAYLIGHT
BEGIN:STANDARD
TZOFFSETFROM:+0200
TZOFFSETTO:+0100
TZNAME:CET
DTSTART:20241027T010000
END:STANDARD
END:VTIMEZONE
BEGIN:VEVENT
DTSTART;TZID=Europe/Paris:20230830T080000
DTEND;TZID=Europe/Paris:20230830T170000
DTSTAMP:20260422T130519
CREATED:20230824T120152Z
LAST-MODIFIED:20230824T120152Z
UID:28888-1693382400-1693414800@www.marianne38.com
SUMMARY:Ateliers de scrapbooking
DESCRIPTION:Ceci est un exemple de texte
URL:https://www.marianne38.com/atelier/ateliers-de-scrapbooking/
LOCATION:Chez Marianne\, 1\, chemin des Acquits\, Saint Georges d'Espéranche\, 38790\, France
CATEGORIES:Atelier Page
ORGANIZER;CN="Marianne":MAILTO:marianne.goczol@marianne38.com
END:VEVENT
END:VCALENDAR