BEGIN:VCALENDAR
VERSION:2.0
PRODID:-//Le scrap de Marianne - ECPv6.15.17.1//NONSGML v1.0//EN
CALSCALE:GREGORIAN
METHOD:PUBLISH
X-WR-CALNAME:Le scrap de Marianne
X-ORIGINAL-URL:https://www.marianne38.com
X-WR-CALDESC:Évènements pour Le scrap de Marianne
REFRESH-INTERVAL;VALUE=DURATION:PT1H
X-Robots-Tag:noindex
X-PUBLISHED-TTL:PT1H
BEGIN:VTIMEZONE
TZID:Europe/Paris
BEGIN:DAYLIGHT
TZOFFSETFROM:+0100
TZOFFSETTO:+0200
TZNAME:CEST
DTSTART:20250330T010000
END:DAYLIGHT
BEGIN:STANDARD
TZOFFSETFROM:+0200
TZOFFSETTO:+0100
TZNAME:CET
DTSTART:20251026T010000
END:STANDARD
BEGIN:DAYLIGHT
TZOFFSETFROM:+0100
TZOFFSETTO:+0200
TZNAME:CEST
DTSTART:20260329T010000
END:DAYLIGHT
BEGIN:STANDARD
TZOFFSETFROM:+0200
TZOFFSETTO:+0100
TZNAME:CET
DTSTART:20261025T010000
END:STANDARD
BEGIN:DAYLIGHT
TZOFFSETFROM:+0100
TZOFFSETTO:+0200
TZNAME:CEST
DTSTART:20270328T010000
END:DAYLIGHT
BEGIN:STANDARD
TZOFFSETFROM:+0200
TZOFFSETTO:+0100
TZNAME:CET
DTSTART:20271031T010000
END:STANDARD
END:VTIMEZONE
BEGIN:VEVENT
DTSTART;VALUE=DATE:20260621
DTEND;VALUE=DATE:20260622
DTSTAMP:20260420T024906
CREATED:20260324T130949Z
LAST-MODIFIED:20260324T130949Z
UID:96053267-1782000000-1782086399@www.marianne38.com
SUMMARY:Week-end CROP dans les ARDENNES (Le Chesne 08)
DESCRIPTION:Les 20 et 21 JUIN\, j’aurai le plaisir d’animer une crop dans les Ardennes\, à LE CHESNE (Bairon et ses Environs)\, organisée par l’Association Scrap Tapage.\n\n\n\n> Le samedi 20 juin\, je proposerai l’album Une Belle Histoire :\n\n\n\nUn album de grand format (20 x 27 cm)\, réalisé avec la collection Florilèges Design Ginkgo ( en mode plutôt estival ).\nCôté technique : réalisation de fonds de pages à l’aquarelle\, tampons\, encres Distress Oxide.\nUn album intemporel qui s’adaptera facilement au thème de votre choix.\n\n\n\n\n\n> Le dimanche 21 juin\, l’album Un Jour Ailleurs :\n\n\nUn album (19 x 29 cm)\, avec une jolie couverture en bois\, sur le thème du voyage et de l’évasion\, réalisé avec des papiers de la collection P13 Naturalist.\nDe nombreux die-cuts participent à la décoration de cet album\, ainsi que des tampons.\nUn album idéal pour mettre en scène vos souvenirs de voyage.\n\n\n\n\n\n\n\nPour vous inscrire\, contactez Aurélie : aurelie_grosselin@netcourrier.com\n\n\n\nNe tardez pas\, le nombre de places est limité
URL:https://www.marianne38.com/atelier/week-end-crop-dans-les-ardennes-le-chesne-08-2/
LOCATION:Le Chesne (08)\, 4 rue Cadot\, Le Chesne\, 08390\, France
CATEGORIES:Atelier Album
ATTACH;FMTTYPE=image/jpeg:https://www.marianne38.com/wp-content/uploads/2026/03/mosa-alb-Un-Jour-Ailleurs.jpg
ORGANIZER;CN="Association Scraptapage":MAILTO:scraptapage08@yahoo.com
END:VEVENT
END:VCALENDAR