BEGIN:VCALENDAR
VERSION:2.0
PRODID:-//Le scrap de Marianne - ECPv6.15.17.1//NONSGML v1.0//EN
CALSCALE:GREGORIAN
METHOD:PUBLISH
X-ORIGINAL-URL:https://www.marianne38.com
X-WR-CALDESC:Évènements pour Le scrap de Marianne
REFRESH-INTERVAL;VALUE=DURATION:PT1H
X-Robots-Tag:noindex
X-PUBLISHED-TTL:PT1H
BEGIN:VTIMEZONE
TZID:Europe/Paris
BEGIN:DAYLIGHT
TZOFFSETFROM:+0100
TZOFFSETTO:+0200
TZNAME:CEST
DTSTART:20250330T010000
END:DAYLIGHT
BEGIN:STANDARD
TZOFFSETFROM:+0200
TZOFFSETTO:+0100
TZNAME:CET
DTSTART:20251026T010000
END:STANDARD
BEGIN:DAYLIGHT
TZOFFSETFROM:+0100
TZOFFSETTO:+0200
TZNAME:CEST
DTSTART:20260329T010000
END:DAYLIGHT
BEGIN:STANDARD
TZOFFSETFROM:+0200
TZOFFSETTO:+0100
TZNAME:CET
DTSTART:20261025T010000
END:STANDARD
BEGIN:DAYLIGHT
TZOFFSETFROM:+0100
TZOFFSETTO:+0200
TZNAME:CEST
DTSTART:20270328T010000
END:DAYLIGHT
BEGIN:STANDARD
TZOFFSETFROM:+0200
TZOFFSETTO:+0100
TZNAME:CET
DTSTART:20271031T010000
END:STANDARD
END:VTIMEZONE
BEGIN:VEVENT
DTSTART;TZID=Europe/Paris:20260328T093000
DTEND;TZID=Europe/Paris:20260328T173000
DTSTAMP:20260420T025820
CREATED:20260227T162018Z
LAST-MODIFIED:20260227T162018Z
UID:96053077-1774690200-1774719000@www.marianne38.com
SUMMARY:Crop Carnet Féérique Lavinia à Vézeronce-Curtin (38)
DESCRIPTION:Venez réaliser un carnet féérique et apprendre des techniques d’encres et de tampons\, avec les produits Lavinia ! \nPour vous inscrire\, contactez Sylvie\, Présidente de l’Association Fans de Crops : duraffourg.sylvie@orange.fr \nhttps://www.marianne38.com/wp-content/uploads/2026/02/crop-curtin-20260328.mp4
URL:https://www.marianne38.com/atelier/crop-carnet-feerique-lavinia-a-vezeronce-curtin-38/
LOCATION:Curtin\, Curtin\, France
CATEGORIES:Atelier Album
ATTACH;FMTTYPE=image/jpeg:https://www.marianne38.com/wp-content/uploads/2026/02/Diapositive2-2.jpg
ORGANIZER;CN="Association Fans de Crops":MAILTO:duraffourg.sylvie@orange.fr
END:VEVENT
END:VCALENDAR